BEGIN:VCALENDAR
VERSION:2.0
PRODID:-//Site officiel de la commune de Gragnague - ECPv6.15.18//NONSGML v1.0//EN
CALSCALE:GREGORIAN
METHOD:PUBLISH
X-WR-CALNAME:Site officiel de la commune de Gragnague
X-ORIGINAL-URL:https://www.gragnague.fr
X-WR-CALDESC:Évènements pour Site officiel de la commune de Gragnague
REFRESH-INTERVAL;VALUE=DURATION:PT1H
X-Robots-Tag:noindex
X-PUBLISHED-TTL:PT1H
BEGIN:VTIMEZONE
TZID:Europe/Paris
BEGIN:DAYLIGHT
TZOFFSETFROM:+0100
TZOFFSETTO:+0200
TZNAME:CEST
DTSTART:20200329T010000
END:DAYLIGHT
BEGIN:STANDARD
TZOFFSETFROM:+0200
TZOFFSETTO:+0100
TZNAME:CET
DTSTART:20201025T010000
END:STANDARD
BEGIN:DAYLIGHT
TZOFFSETFROM:+0100
TZOFFSETTO:+0200
TZNAME:CEST
DTSTART:20210328T010000
END:DAYLIGHT
BEGIN:STANDARD
TZOFFSETFROM:+0200
TZOFFSETTO:+0100
TZNAME:CET
DTSTART:20211031T010000
END:STANDARD
BEGIN:DAYLIGHT
TZOFFSETFROM:+0100
TZOFFSETTO:+0200
TZNAME:CEST
DTSTART:20220327T010000
END:DAYLIGHT
BEGIN:STANDARD
TZOFFSETFROM:+0200
TZOFFSETTO:+0100
TZNAME:CET
DTSTART:20221030T010000
END:STANDARD
END:VTIMEZONE
BEGIN:VEVENT
DTSTART;TZID=Europe/Paris:20210612T080000
DTEND;TZID=Europe/Paris:20210612T170000
DTSTAMP:20260426T053051
CREATED:20210119T162344Z
LAST-MODIFIED:20210121T154030Z
UID:4532-1623484800-1623517200@www.gragnague.fr
SUMMARY:Fête de la Gym organisée par l'Association Gragnaguaise de Gymnastique Volontaire
DESCRIPTION:Fête de la Gym organisée par l’Association Gragnaguaise de Gymnastique Volontaire (contact : Mme Vassal Odette => 06 86 85 55 07) \nThéâtre de Verdure ou Espace Debat Ponsan en cas de pluie \n  \n  \n 
URL:https://www.gragnague.fr/evenement/fete-de-gym-organisee-par-lassociation-gragnaguaise-de-gymnastique-volontaire/
LOCATION:Théâtre de Verdure ou Espace Debat Ponsan\, 3 place Bellegarde 31380 GRAGNAGUE
CATEGORIES:Sport
ATTACH;FMTTYPE=image/jpeg:https://www.gragnague.fr/wp-content/uploads/2021/01/photo-1518611012118-696072aa579a-3.jpg
END:VEVENT
BEGIN:VEVENT
DTSTART;TZID=Europe/Paris:20210612T170000
DTEND;TZID=Europe/Paris:20210612T233000
DTSTAMP:20260426T053051
CREATED:20210126T142311Z
LAST-MODIFIED:20210126T142311Z
UID:4585-1623517200-1623540600@www.gragnague.fr
SUMMARY:Fiesta de la Familia organisée par l'association Flamenco'Métis
DESCRIPTION:Fiesta de la Familia organisée par l’association Flamenco’Métis – Contact : Isabel au 06 03 49 68 97 ou flamencometis@gmail.com \n17h00 : Présence de M. ballons qui interviendra pendant 1 heure sur le thème du flamenco et permettra aux enfants comme aux parents de jouer ensemble. \n18h00 : Les élèves enfants de Gragnague feront découvrir leur danse et suivra une initiation découverte\, animée par Isabel\, danseuse professionnelle pour tous les enfants présents. \n19h00 : Apéritif \n20h00 : Repas\, tapas et initiation découverte du flamenco destinée aux adultes puis bal animé par un DJ \nObjectif de la manifestation : \n\nCréer du lien entre les enfants et les adultes au coeur du village.\nFaire découvrir le flamenco sous forme ludique à plusieurs générations.\n\n  \n  \n 
URL:https://www.gragnague.fr/evenement/fiesta-de-la-familia-organisee-par-lassociation-flamencometis/
LOCATION:Salle du Foyer Rural\, 15 place Bellegarde 31380 GRAGNAGUE\, France
CATEGORIES:Associations,Culture,Sport
ATTACH;FMTTYPE=image/jpeg:https://www.gragnague.fr/wp-content/uploads/2021/01/Page-de-Garde-Flamenco-Photo-3.jpg
END:VEVENT
END:VCALENDAR