BEGIN:VCALENDAR
VERSION:2.0
PRODID:-//Site officiel de la commune de Gragnague - ECPv6.15.18//NONSGML v1.0//EN
CALSCALE:GREGORIAN
METHOD:PUBLISH
X-WR-CALNAME:Site officiel de la commune de Gragnague
X-ORIGINAL-URL:https://www.gragnague.fr
X-WR-CALDESC:Évènements pour Site officiel de la commune de Gragnague
REFRESH-INTERVAL;VALUE=DURATION:PT1H
X-Robots-Tag:noindex
X-PUBLISHED-TTL:PT1H
BEGIN:VTIMEZONE
TZID:Europe/Paris
BEGIN:DAYLIGHT
TZOFFSETFROM:+0100
TZOFFSETTO:+0200
TZNAME:CEST
DTSTART:20210328T010000
END:DAYLIGHT
BEGIN:STANDARD
TZOFFSETFROM:+0200
TZOFFSETTO:+0100
TZNAME:CET
DTSTART:20211031T010000
END:STANDARD
BEGIN:DAYLIGHT
TZOFFSETFROM:+0100
TZOFFSETTO:+0200
TZNAME:CEST
DTSTART:20220327T010000
END:DAYLIGHT
BEGIN:STANDARD
TZOFFSETFROM:+0200
TZOFFSETTO:+0100
TZNAME:CET
DTSTART:20221030T010000
END:STANDARD
BEGIN:DAYLIGHT
TZOFFSETFROM:+0100
TZOFFSETTO:+0200
TZNAME:CEST
DTSTART:20230326T010000
END:DAYLIGHT
BEGIN:STANDARD
TZOFFSETFROM:+0200
TZOFFSETTO:+0100
TZNAME:CET
DTSTART:20231029T010000
END:STANDARD
END:VTIMEZONE
BEGIN:VEVENT
DTSTART;TZID=Europe/Paris:20221202T190000
DTEND;TZID=Europe/Paris:20221202T220000
DTSTAMP:20260425T053223
CREATED:20221123T120523Z
LAST-MODIFIED:20221123T120854Z
UID:6260-1670007600-1670018400@www.gragnague.fr
SUMMARY:Cérémonie des nouveaux arrivants
DESCRIPTION:Le vendredi 2 décembre 2022 à 19h00\, la mairie a le plaisir de convier les nouveaux arrivants inscrits à cette cérémonie d’accueil\, au Complexe Sportif et de Loisirs ( C.S.L) 1280\, chemin de la Mouyssaguèse. \nA cette occasion\, une présentation de la commune sera réalisée autour d’un apéritif dinatoire convivial. \n 
URL:https://www.gragnague.fr/evenement/ceremonie-des-nouveaux-arrivants/
LOCATION:C.S.L\, 1280 chemin de la Mouyssaguèse\, GRAGNAGUE\, 31380\, France
CATEGORIES:Ma ville
ATTACH;FMTTYPE=image/jpeg:https://www.gragnague.fr/wp-content/uploads/2022/11/76088-scaled.jpg
END:VEVENT
END:VCALENDAR