BEGIN:VCALENDAR
VERSION:2.0
PRODID:-//Site officiel de la commune de Gragnague - ECPv6.15.18//NONSGML v1.0//EN
CALSCALE:GREGORIAN
METHOD:PUBLISH
X-WR-CALNAME:Site officiel de la commune de Gragnague
X-ORIGINAL-URL:https://www.gragnague.fr
X-WR-CALDESC:Évènements pour Site officiel de la commune de Gragnague
REFRESH-INTERVAL;VALUE=DURATION:PT1H
X-Robots-Tag:noindex
X-PUBLISHED-TTL:PT1H
BEGIN:VTIMEZONE
TZID:Europe/Paris
BEGIN:DAYLIGHT
TZOFFSETFROM:+0100
TZOFFSETTO:+0200
TZNAME:CEST
DTSTART:20210328T010000
END:DAYLIGHT
BEGIN:STANDARD
TZOFFSETFROM:+0200
TZOFFSETTO:+0100
TZNAME:CET
DTSTART:20211031T010000
END:STANDARD
BEGIN:DAYLIGHT
TZOFFSETFROM:+0100
TZOFFSETTO:+0200
TZNAME:CEST
DTSTART:20220327T010000
END:DAYLIGHT
BEGIN:STANDARD
TZOFFSETFROM:+0200
TZOFFSETTO:+0100
TZNAME:CET
DTSTART:20221030T010000
END:STANDARD
BEGIN:DAYLIGHT
TZOFFSETFROM:+0100
TZOFFSETTO:+0200
TZNAME:CEST
DTSTART:20230326T010000
END:DAYLIGHT
BEGIN:STANDARD
TZOFFSETFROM:+0200
TZOFFSETTO:+0100
TZNAME:CET
DTSTART:20231029T010000
END:STANDARD
END:VTIMEZONE
BEGIN:VEVENT
DTSTART;VALUE=DATE:20220618
DTEND;VALUE=DATE:20220619
DTSTAMP:20260424T231259
CREATED:20211115T175600Z
LAST-MODIFIED:20211115T175600Z
UID:5429-1655510400-1655596799@www.gragnague.fr
SUMMARY:Concours de pétanque organisé par la Boule Gragnaguaise
DESCRIPTION:Concours de Pétanque organisé par la Boule Gragnaguaise \nPour tous renseignements\, merci de contacter M. Stéphane Pélissier au 06 63 93 32 01
URL:https://www.gragnague.fr/evenement/concours-de-petanque-organise-par-la-boule-gragnaguaise/
LOCATION:Place Bellegarde\, 31380 GRAGNAGUE
CATEGORIES:Associations,Loisirs
ATTACH;FMTTYPE=image/jpeg:https://www.gragnague.fr/wp-content/uploads/2019/07/petanque.jpg
END:VEVENT
END:VCALENDAR