BEGIN:VCALENDAR
VERSION:2.0
PRODID:-//Site officiel de la commune de Gragnague - ECPv6.15.18//NONSGML v1.0//EN
CALSCALE:GREGORIAN
METHOD:PUBLISH
X-ORIGINAL-URL:https://www.gragnague.fr
X-WR-CALDESC:Évènements pour Site officiel de la commune de Gragnague
REFRESH-INTERVAL;VALUE=DURATION:PT1H
X-Robots-Tag:noindex
X-PUBLISHED-TTL:PT1H
BEGIN:VTIMEZONE
TZID:Europe/Paris
BEGIN:DAYLIGHT
TZOFFSETFROM:+0100
TZOFFSETTO:+0200
TZNAME:CEST
DTSTART:20210328T010000
END:DAYLIGHT
BEGIN:STANDARD
TZOFFSETFROM:+0200
TZOFFSETTO:+0100
TZNAME:CET
DTSTART:20211031T010000
END:STANDARD
BEGIN:DAYLIGHT
TZOFFSETFROM:+0100
TZOFFSETTO:+0200
TZNAME:CEST
DTSTART:20220327T010000
END:DAYLIGHT
BEGIN:STANDARD
TZOFFSETFROM:+0200
TZOFFSETTO:+0100
TZNAME:CET
DTSTART:20221030T010000
END:STANDARD
BEGIN:DAYLIGHT
TZOFFSETFROM:+0100
TZOFFSETTO:+0200
TZNAME:CEST
DTSTART:20230326T010000
END:DAYLIGHT
BEGIN:STANDARD
TZOFFSETFROM:+0200
TZOFFSETTO:+0100
TZNAME:CET
DTSTART:20231029T010000
END:STANDARD
END:VTIMEZONE
BEGIN:VEVENT
DTSTART;TZID=Europe/Paris:20220515T100000
DTEND;TZID=Europe/Paris:20220515T183000
DTSTAMP:20260425T015744
CREATED:20220421T083235Z
LAST-MODIFIED:20220421T083235Z
UID:5655-1652608800-1652639400@www.gragnague.fr
SUMMARY:Marché des créateurs
DESCRIPTION:Le nouveau Marché des créateurs vous accueille le 15 mai 2022 de 10h00 à 18h30 sur la place Bellegarde.
URL:https://www.gragnague.fr/evenement/marche-des-createurs-4/
LOCATION:place Bellegarde\, France
CATEGORIES:Loisirs
ATTACH;FMTTYPE=image/jpeg:https://www.gragnague.fr/wp-content/uploads/2022/04/Marche-createur-20220515.jpg
END:VEVENT
END:VCALENDAR