BEGIN:VCALENDAR
VERSION:2.0
PRODID:-//Site officiel de la commune de Gragnague - ECPv6.15.18//NONSGML v1.0//EN
CALSCALE:GREGORIAN
METHOD:PUBLISH
X-ORIGINAL-URL:https://www.gragnague.fr
X-WR-CALDESC:Évènements pour Site officiel de la commune de Gragnague
REFRESH-INTERVAL;VALUE=DURATION:PT1H
X-Robots-Tag:noindex
X-PUBLISHED-TTL:PT1H
BEGIN:VTIMEZONE
TZID:Europe/Paris
BEGIN:DAYLIGHT
TZOFFSETFROM:+0100
TZOFFSETTO:+0200
TZNAME:CEST
DTSTART:20200329T010000
END:DAYLIGHT
BEGIN:STANDARD
TZOFFSETFROM:+0200
TZOFFSETTO:+0100
TZNAME:CET
DTSTART:20201025T010000
END:STANDARD
BEGIN:DAYLIGHT
TZOFFSETFROM:+0100
TZOFFSETTO:+0200
TZNAME:CEST
DTSTART:20210328T010000
END:DAYLIGHT
BEGIN:STANDARD
TZOFFSETFROM:+0200
TZOFFSETTO:+0100
TZNAME:CET
DTSTART:20211031T010000
END:STANDARD
BEGIN:DAYLIGHT
TZOFFSETFROM:+0100
TZOFFSETTO:+0200
TZNAME:CEST
DTSTART:20220327T010000
END:DAYLIGHT
BEGIN:STANDARD
TZOFFSETFROM:+0200
TZOFFSETTO:+0100
TZNAME:CET
DTSTART:20221030T010000
END:STANDARD
END:VTIMEZONE
BEGIN:VEVENT
DTSTART;TZID=Europe/Paris:20211119T204500
DTEND;TZID=Europe/Paris:20211119T233000
DTSTAMP:20260425T131837
CREATED:20211011T134523Z
LAST-MODIFIED:20211011T134523Z
UID:5348-1637354700-1637364600@www.gragnague.fr
SUMMARY:Concours de belote au profit du Téléthon 2022 organisé par l'association du Foyer Rural
DESCRIPTION:Concours de belote au profit du Téléthon 2022 \nLe Foyer Rural organise\, encore une fois et en toute simplicité\, des concours de belote ouverts à tout public dont les bénéfices récoltés seront entièrement reversés au Téléthon. \nRejoignez-nous les vendredis 5\, 19 et 26 novembre 2021 à 20h45 \nAu Foyer Rural (à côté de l’Eglise) \nNous remercions toutes les personnes qui œuvrent ou participent à ces soirées (par leur présence\, en offrant des lots ou en confectionnant des pâtisseries). \nN’hésitez pas à venir passer une agréable soirée dans une ambiance sympathique assurée ! \nRésultat reversé au Téléthon l’année 2019 : 500 € \nNous vous attendons nombreux \nA bientôt. \n  \nProchain rendez-vous à ne pas manquer : \nMarché de Noël le dimanche 19 décembre 2021 \nNous vous attendons nombreux \nA bientôt.
URL:https://www.gragnague.fr/evenement/concours-de-belote-au-profit-du-telethon-2022-organise-par-lassociation-du-foyer-rural-2/
LOCATION:Salle du Foyer Rural\, 15 place Bellegarde 31380 GRAGNAGUE\, France
CATEGORIES:Associations,Loisirs
ATTACH;FMTTYPE=image/jpeg:https://www.gragnague.fr/wp-content/uploads/2019/10/download.jpg
END:VEVENT
END:VCALENDAR