BEGIN:VCALENDAR
VERSION:2.0
PRODID:-//Site officiel de la commune de Gragnague - ECPv6.15.18//NONSGML v1.0//EN
CALSCALE:GREGORIAN
METHOD:PUBLISH
X-ORIGINAL-URL:https://www.gragnague.fr
X-WR-CALDESC:Évènements pour Site officiel de la commune de Gragnague
REFRESH-INTERVAL;VALUE=DURATION:PT1H
X-Robots-Tag:noindex
X-PUBLISHED-TTL:PT1H
BEGIN:VTIMEZONE
TZID:Europe/Paris
BEGIN:DAYLIGHT
TZOFFSETFROM:+0100
TZOFFSETTO:+0200
TZNAME:CEST
DTSTART:20200329T010000
END:DAYLIGHT
BEGIN:STANDARD
TZOFFSETFROM:+0200
TZOFFSETTO:+0100
TZNAME:CET
DTSTART:20201025T010000
END:STANDARD
BEGIN:DAYLIGHT
TZOFFSETFROM:+0100
TZOFFSETTO:+0200
TZNAME:CEST
DTSTART:20210328T010000
END:DAYLIGHT
BEGIN:STANDARD
TZOFFSETFROM:+0200
TZOFFSETTO:+0100
TZNAME:CET
DTSTART:20211031T010000
END:STANDARD
BEGIN:DAYLIGHT
TZOFFSETFROM:+0100
TZOFFSETTO:+0200
TZNAME:CEST
DTSTART:20220327T010000
END:DAYLIGHT
BEGIN:STANDARD
TZOFFSETFROM:+0200
TZOFFSETTO:+0100
TZNAME:CET
DTSTART:20221030T010000
END:STANDARD
END:VTIMEZONE
BEGIN:VEVENT
DTSTART;VALUE=DATE:20211025
DTEND;VALUE=DATE:20211106
DTSTAMP:20260425T132251
CREATED:20210915T132648Z
LAST-MODIFIED:20210915T132648Z
UID:5205-1635120000-1636156799@www.gragnague.fr
SUMMARY:Animations Vacances d'Automne organisées par les accueils de loisirs
DESCRIPTION:Pour les vacances d’automne 2021\, du 25 octobre au 5 novembre\, les accueils de loisirs vont faire entrer les enfants dans le monde des légendes ! \nCinq accueils de Loisirs seront ouverts pour accueillir les enfants : \nGragnague\, Lapeyrouse-Fossat Montastruc la Conseillère\, Paulhac et Verfeil. \nLes enfants découvriront les animaux dans les contes et légendes à travers la pratique d’activités ludiques : ateliers culturels\, artistiques et sportifs. \nDurant les deux semaines de vacances des rencontres intercentre seront proposées aux enfants. \nLes inscriptions sont ouvertes du 20 septembre au 10 octobre. \nLes réservations peuvent se faire dans l’extranet\, sur l’espace famille : www.lecgs-gestion.org et directement auprès des structures. \nCLIQUEZ POUR VOIR LE PROGRAMME \nOU sur le lien suivant : https://vu.fr/tQNJ \nDocuments : \nDépliant des animations automne : Cliquez ici \nFlyer des journées découvertes automne :Cliquez ici \n \n\n\nAgenda 2021-2022\n\n\nDécouvrez l’agenda des thématiques d’animations qui seront déclinées tout au long de l’année 2021-2022 dans les centres de loisirs. \nAutomne : Animaux et légendes \nFin d’année : Légendes africaines \nHiver : Mythologies nordiques \nPrintemps : Légendes amérindiennes \nEté : Légendes antiques \nRetrouvez le programme détaillé sur notre site internet\, quelques semaines avant le début de chaque période de vacances. \n 
URL:https://www.gragnague.fr/evenement/animations-vacances-dautomne-organisees-par-les-accueils-de-loisirs/
LOCATION:Centre de loisirs\, 1 impasse de la Tour 31380 GRAGNAGUE
CATEGORIES:Loisirs
ATTACH;FMTTYPE=image/jpeg:https://www.gragnague.fr/wp-content/uploads/2021/09/Animations-CL.jpg
END:VEVENT
BEGIN:VEVENT
DTSTART;TZID=Europe/Paris:20211105T204500
DTEND;TZID=Europe/Paris:20211105T233000
DTSTAMP:20260425T132251
CREATED:20211011T134318Z
LAST-MODIFIED:20211011T134318Z
UID:5346-1636145100-1636155000@www.gragnague.fr
SUMMARY:Concours de belote au profit du Téléthon 2022 organisé par l'association du Foyer Rural
DESCRIPTION:Concours de belote au profit du Téléthon 2022 \nLe Foyer Rural organise\, encore une fois et en toute simplicité\, des concours de belote ouverts à tout public dont les bénéfices récoltés seront entièrement reversés au Téléthon. \nRejoignez-nous les vendredis 5\, 19 et 26 novembre 2021 à 20h45 \nAu Foyer Rural (à côté de l’Eglise) \nNous remercions toutes les personnes qui œuvrent ou participent à ces soirées (par leur présence\, en offrant des lots ou en confectionnant des pâtisseries). \nN’hésitez pas à venir passer une agréable soirée dans une ambiance sympathique assurée ! \nRésultat reversé au Téléthon l’année 2019 : 500 € \nNous vous attendons nombreux \nA bientôt. \n  \nProchain rendez-vous à ne pas manquer : \nMarché de Noël le dimanche 19 décembre 2021 \nNous vous attendons nombreux \nA bientôt.
URL:https://www.gragnague.fr/evenement/concours-de-belote-au-profit-du-telethon-2022-organise-par-lassociation-du-foyer-rural/
LOCATION:Salle du Foyer Rural\, 15 place Bellegarde 31380 GRAGNAGUE\, France
CATEGORIES:Associations,Loisirs
ATTACH;FMTTYPE=image/jpeg:https://www.gragnague.fr/wp-content/uploads/2019/10/download.jpg
END:VEVENT
END:VCALENDAR