BEGIN:VCALENDAR
VERSION:2.0
PRODID:-//Site officiel de la commune de Gragnague - ECPv6.15.18//NONSGML v1.0//EN
CALSCALE:GREGORIAN
METHOD:PUBLISH
X-ORIGINAL-URL:https://www.gragnague.fr
X-WR-CALDESC:Évènements pour Site officiel de la commune de Gragnague
REFRESH-INTERVAL;VALUE=DURATION:PT1H
X-Robots-Tag:noindex
X-PUBLISHED-TTL:PT1H
BEGIN:VTIMEZONE
TZID:Europe/Paris
BEGIN:DAYLIGHT
TZOFFSETFROM:+0100
TZOFFSETTO:+0200
TZNAME:CEST
DTSTART:20200329T010000
END:DAYLIGHT
BEGIN:STANDARD
TZOFFSETFROM:+0200
TZOFFSETTO:+0100
TZNAME:CET
DTSTART:20201025T010000
END:STANDARD
BEGIN:DAYLIGHT
TZOFFSETFROM:+0100
TZOFFSETTO:+0200
TZNAME:CEST
DTSTART:20210328T010000
END:DAYLIGHT
BEGIN:STANDARD
TZOFFSETFROM:+0200
TZOFFSETTO:+0100
TZNAME:CET
DTSTART:20211031T010000
END:STANDARD
BEGIN:DAYLIGHT
TZOFFSETFROM:+0100
TZOFFSETTO:+0200
TZNAME:CEST
DTSTART:20220327T010000
END:DAYLIGHT
BEGIN:STANDARD
TZOFFSETFROM:+0200
TZOFFSETTO:+0100
TZNAME:CET
DTSTART:20221030T010000
END:STANDARD
END:VTIMEZONE
BEGIN:VEVENT
DTSTART;VALUE=DATE:20211023
DTEND;VALUE=DATE:20211025
DTSTAMP:20260425T144706
CREATED:20210107T170829Z
LAST-MODIFIED:20211007T123245Z
UID:4508-1634947200-1635119999@www.gragnague.fr
SUMMARY:Fête de la châtaigne avec forains
DESCRIPTION:Du 22 au 24 octobre grande fête foraine sur la place du village à l’occasion de la fête de la châtaigne. \nEn raison des contraintes sanitaires\, et malgré la motivation de nos associations\, le vide-grenier ne pourra pas se tenir en même temps que la fête foraine\, nous vous donnons rendez-vous l’année prochaine pour cet événement tant attendu. \n 
URL:https://www.gragnague.fr/evenement/fete-de-la-chataigne-avec-forains/
LOCATION:Place Bellegarde et centre du village 31380 GRAGNAGUE
CATEGORIES:Loisirs
ATTACH;FMTTYPE=application/pdf:https://www.gragnague.fr/wp-content/uploads/2021/01/FETE-DE-LA-CHATAIGNE.pdf
END:VEVENT
BEGIN:VEVENT
DTSTART;TZID=Europe/Paris:20211023T100000
DTEND;TZID=Europe/Paris:20211023T160000
DTSTAMP:20260425T144706
CREATED:20211006T151717Z
LAST-MODIFIED:20211007T102703Z
UID:5324-1634983200-1635004800@www.gragnague.fr
SUMMARY:STAGE DE THÉÂTRE organisé par l'association L'ART EN MIROIR
DESCRIPTION:STAGE THÉÂTRE\nintergénérationnel (tout âge).\nLe samedi 23 octobre 2021\nde 10h à 16h\nà Gragnague\, Grand Préfabriqué situé derrière la mairie\nRenseignements\, réservation :\nAssociation L’ART EN MIROIR\nlartenmiroir@gmail.com\n06 17 41 93 18 / 06 37 84 54 95\nTarif : 50€ par personne / 35€ si plusieurs personnes de la même\nfamille.\nL’association L’ART EN MIROIR et Sarah Bottarel vous proposent de\nse retrouver pour une journée de création théâtrale ; inventer son\npropre personnage et finir la journée par une petite « improvisation\ntravaillée »\, voilà ce qui vous attend ! Venez en famille !\nLe déjeuner sera pris sur place ensemble. Pensez à apporter votre\nrepas.\nUne belle journée de partage et de jeux en perspective
URL:https://www.gragnague.fr/evenement/stage-de-theatre-organise-par-lassociation-lart-en-miroir/
LOCATION:Salle Malcousinat\, rue Malcousinat 31380 GRAGNAGUE
CATEGORIES:Associations,Loisirs,Stage
ATTACH;FMTTYPE=image/jpeg:https://www.gragnague.fr/wp-content/uploads/2020/04/photo-1503095396549-807759245b35.jpg
END:VEVENT
END:VCALENDAR