BEGIN:VCALENDAR
VERSION:2.0
PRODID:-//Site officiel de la commune de Gragnague - ECPv6.15.18//NONSGML v1.0//EN
CALSCALE:GREGORIAN
METHOD:PUBLISH
X-ORIGINAL-URL:https://www.gragnague.fr
X-WR-CALDESC:Évènements pour Site officiel de la commune de Gragnague
REFRESH-INTERVAL;VALUE=DURATION:PT1H
X-Robots-Tag:noindex
X-PUBLISHED-TTL:PT1H
BEGIN:VTIMEZONE
TZID:Europe/Paris
BEGIN:DAYLIGHT
TZOFFSETFROM:+0100
TZOFFSETTO:+0200
TZNAME:CEST
DTSTART:20200329T010000
END:DAYLIGHT
BEGIN:STANDARD
TZOFFSETFROM:+0200
TZOFFSETTO:+0100
TZNAME:CET
DTSTART:20201025T010000
END:STANDARD
BEGIN:DAYLIGHT
TZOFFSETFROM:+0100
TZOFFSETTO:+0200
TZNAME:CEST
DTSTART:20210328T010000
END:DAYLIGHT
BEGIN:STANDARD
TZOFFSETFROM:+0200
TZOFFSETTO:+0100
TZNAME:CET
DTSTART:20211031T010000
END:STANDARD
BEGIN:DAYLIGHT
TZOFFSETFROM:+0100
TZOFFSETTO:+0200
TZNAME:CEST
DTSTART:20220327T010000
END:DAYLIGHT
BEGIN:STANDARD
TZOFFSETFROM:+0200
TZOFFSETTO:+0100
TZNAME:CET
DTSTART:20221030T010000
END:STANDARD
END:VTIMEZONE
BEGIN:VEVENT
DTSTART;TZID=Europe/Paris:20210626T203000
DTEND;TZID=Europe/Paris:20210626T220000
DTSTAMP:20260425T203532
CREATED:20210617T170756Z
LAST-MODIFIED:20210617T170756Z
UID:4969-1624739400-1624744800@www.gragnague.fr
SUMMARY:CIRQUE LANDRI
DESCRIPTION:LES ARTISTES DE LA TROUPE DU CIRQUE LANDRI VOUS PRÉSENTERONT LEUR SPECTACLE DE 1 HEURE 15 \nSAMEDI 26 JUIN À 20H30 & DIMANCHE 27 JUIN À 17 HEURES \nPLACE DU VILLAGE \nTARIFS : \n8 EUROS / ENFANTS \n10 EUROS /ADULTES
URL:https://www.gragnague.fr/evenement/cirque-landri/
LOCATION:Place Bellegarde\, 31380 GRAGNAGUE
CATEGORIES:Loisirs
ATTACH;FMTTYPE=image/jpeg:https://www.gragnague.fr/wp-content/uploads/2021/06/aebc13f9f8396fae40b8d0ec5ebcd020_cirque.jpg
END:VEVENT
END:VCALENDAR