BEGIN:VCALENDAR
VERSION:2.0
PRODID:-//Site officiel de la commune de Gragnague - ECPv6.15.18//NONSGML v1.0//EN
CALSCALE:GREGORIAN
METHOD:PUBLISH
X-ORIGINAL-URL:https://www.gragnague.fr
X-WR-CALDESC:Évènements pour Site officiel de la commune de Gragnague
REFRESH-INTERVAL;VALUE=DURATION:PT1H
X-Robots-Tag:noindex
X-PUBLISHED-TTL:PT1H
BEGIN:VTIMEZONE
TZID:Europe/Paris
BEGIN:DAYLIGHT
TZOFFSETFROM:+0100
TZOFFSETTO:+0200
TZNAME:CEST
DTSTART:20200329T010000
END:DAYLIGHT
BEGIN:STANDARD
TZOFFSETFROM:+0200
TZOFFSETTO:+0100
TZNAME:CET
DTSTART:20201025T010000
END:STANDARD
BEGIN:DAYLIGHT
TZOFFSETFROM:+0100
TZOFFSETTO:+0200
TZNAME:CEST
DTSTART:20210328T010000
END:DAYLIGHT
BEGIN:STANDARD
TZOFFSETFROM:+0200
TZOFFSETTO:+0100
TZNAME:CET
DTSTART:20211031T010000
END:STANDARD
BEGIN:DAYLIGHT
TZOFFSETFROM:+0100
TZOFFSETTO:+0200
TZNAME:CEST
DTSTART:20220327T010000
END:DAYLIGHT
BEGIN:STANDARD
TZOFFSETFROM:+0200
TZOFFSETTO:+0100
TZNAME:CET
DTSTART:20221030T010000
END:STANDARD
END:VTIMEZONE
BEGIN:VEVENT
DTSTART;VALUE=DATE:20210320
DTEND;VALUE=DATE:20210322
DTSTAMP:20260426T004212
CREATED:20210107T165350Z
LAST-MODIFIED:20210311T142339Z
UID:4504-1616198400-1616371199@www.gragnague.fr
SUMMARY:Fête du Printemps avec forains ANNULÉE
DESCRIPTION:Fête du Printemps organisée par le Comité des Fêtes avec forains \n 
URL:https://www.gragnague.fr/evenement/fete-du-printemps-avec-forains-2/
LOCATION:Place Bellegarde et centre du village 31380 GRAGNAGUE
CATEGORIES:Loisirs
ATTACH;FMTTYPE=image/jpeg:https://www.gragnague.fr/wp-content/uploads/2019/06/transports_scolaires.jpg
END:VEVENT
END:VCALENDAR