BEGIN:VCALENDAR
VERSION:2.0
PRODID:-//Site officiel de la commune de Gragnague - ECPv6.15.18//NONSGML v1.0//EN
CALSCALE:GREGORIAN
METHOD:PUBLISH
X-ORIGINAL-URL:https://www.gragnague.fr
X-WR-CALDESC:Évènements pour Site officiel de la commune de Gragnague
REFRESH-INTERVAL;VALUE=DURATION:PT1H
X-Robots-Tag:noindex
X-PUBLISHED-TTL:PT1H
BEGIN:VTIMEZONE
TZID:Europe/Paris
BEGIN:DAYLIGHT
TZOFFSETFROM:+0100
TZOFFSETTO:+0200
TZNAME:CEST
DTSTART:20190331T010000
END:DAYLIGHT
BEGIN:STANDARD
TZOFFSETFROM:+0200
TZOFFSETTO:+0100
TZNAME:CET
DTSTART:20191027T010000
END:STANDARD
BEGIN:DAYLIGHT
TZOFFSETFROM:+0100
TZOFFSETTO:+0200
TZNAME:CEST
DTSTART:20200329T010000
END:DAYLIGHT
BEGIN:STANDARD
TZOFFSETFROM:+0200
TZOFFSETTO:+0100
TZNAME:CET
DTSTART:20201025T010000
END:STANDARD
BEGIN:DAYLIGHT
TZOFFSETFROM:+0100
TZOFFSETTO:+0200
TZNAME:CEST
DTSTART:20210328T010000
END:DAYLIGHT
BEGIN:STANDARD
TZOFFSETFROM:+0200
TZOFFSETTO:+0100
TZNAME:CET
DTSTART:20211031T010000
END:STANDARD
END:VTIMEZONE
BEGIN:VEVENT
DTSTART;TZID=Europe/Paris:20201212T140000
DTEND;TZID=Europe/Paris:20201212T180000
DTSTAMP:20260426T051800
CREATED:20200626T100356Z
LAST-MODIFIED:20201211T112155Z
UID:3989-1607781600-1607796000@www.gragnague.fr
SUMMARY:ANNULÉ Stage Qi Gong organisé par le Centre d'Arts Martiaux Energétiques Chinois
DESCRIPTION:Stage de Qi Gong organisé par le Centre d’Arts Martiaux Energétiques Chinois de 14h00 à 18h00
URL:https://www.gragnague.fr/evenement/stage-qi-gong-organise-par-le-centre-darts-martiaux-energetiques-chinois/
LOCATION:Salle Malcousinat\, rue Malcousinat 31380 GRAGNAGUE
CATEGORIES:Loisirs
ATTACH;FMTTYPE=image/jpeg:https://www.gragnague.fr/wp-content/uploads/2020/06/CAMEC-Photo.jpg
END:VEVENT
END:VCALENDAR