BEGIN:VCALENDAR
VERSION:2.0
PRODID:-//Site officiel de la commune de Gragnague - ECPv6.15.18//NONSGML v1.0//EN
CALSCALE:GREGORIAN
METHOD:PUBLISH
X-WR-CALNAME:Site officiel de la commune de Gragnague
X-ORIGINAL-URL:https://www.gragnague.fr
X-WR-CALDESC:Évènements pour Site officiel de la commune de Gragnague
REFRESH-INTERVAL;VALUE=DURATION:PT1H
X-Robots-Tag:noindex
X-PUBLISHED-TTL:PT1H
BEGIN:VTIMEZONE
TZID:Europe/Paris
BEGIN:DAYLIGHT
TZOFFSETFROM:+0100
TZOFFSETTO:+0200
TZNAME:CEST
DTSTART:20200329T010000
END:DAYLIGHT
BEGIN:STANDARD
TZOFFSETFROM:+0200
TZOFFSETTO:+0100
TZNAME:CET
DTSTART:20201025T010000
END:STANDARD
BEGIN:DAYLIGHT
TZOFFSETFROM:+0100
TZOFFSETTO:+0200
TZNAME:CEST
DTSTART:20210328T010000
END:DAYLIGHT
BEGIN:STANDARD
TZOFFSETFROM:+0200
TZOFFSETTO:+0100
TZNAME:CET
DTSTART:20211031T010000
END:STANDARD
BEGIN:DAYLIGHT
TZOFFSETFROM:+0100
TZOFFSETTO:+0200
TZNAME:CEST
DTSTART:20220327T010000
END:DAYLIGHT
BEGIN:STANDARD
TZOFFSETFROM:+0200
TZOFFSETTO:+0100
TZNAME:CET
DTSTART:20221030T010000
END:STANDARD
END:VTIMEZONE
BEGIN:VEVENT
DTSTART;TZID=Europe/Paris:20210704T140000
DTEND;TZID=Europe/Paris:20210704T170000
DTSTAMP:20260425T173518
CREATED:20210121T152936Z
LAST-MODIFIED:20210624T164339Z
UID:4552-1625407200-1625418000@www.gragnague.fr
SUMMARY:Fête de l'Ecole de Musique
DESCRIPTION:Fête de fin d’année organisée par l’Ecole de Musique de Gragnague \nCelui qui aurait dû être le dernier événement de l’année sera le premier et l’unique rendez-vous que les musiciens de l’École de Musique et de l’Orchestre d’Harmonie de la Vallée du Girou donneront à leur public en raison de la pandémie Covid. \nÀ partir de 14h\, les élèves accompagnés de leurs professeurs se produiront en solo\, duo ou trio. Les classes de FM toutes rassemblées proposeront une œuvre chantée. Puis les musiciens de l’orchestre-école intégreront l’Orchestre d’Harmonie de la Vallée du Girou pour jouer un morceau en commun. L’OHVAG clôturera l’après-midi en offrant un court programme musical qui plaira aux petits comme aux grands. \nVenez nombreux encourager et applaudir nos musiciennes et nos musiciens ! \ncontactemvag@gmail.com
URL:https://www.gragnague.fr/evenement/fete-de-lecole-de-musique/
LOCATION:Place Bellegarde ou Espace Debat-Ponsan\, 31180 GRAGNAGUE
CATEGORIES:Associations,Culture,Loisirs
ATTACH;FMTTYPE=image/png:https://www.gragnague.fr/wp-content/uploads/2021/01/2021-fete-EMVAG.png
END:VEVENT
BEGIN:VEVENT
DTSTART;TZID=Europe/Paris:20210712T180000
DTEND;TZID=Europe/Paris:20210713T190000
DTSTAMP:20260425T173518
CREATED:20210707T150955Z
LAST-MODIFIED:20210707T150955Z
UID:5019-1626112800-1626202800@www.gragnague.fr
SUMMARY:SPECTACLE DE GUIGNOL
DESCRIPTION:Spectacle évènement : Le Monde Merveilleux de Guignol \n 
URL:https://www.gragnague.fr/evenement/spectacle-de-guignol/
CATEGORIES:Loisirs
ATTACH;FMTTYPE=image/jpeg:https://www.gragnague.fr/wp-content/uploads/2021/07/download.jpg
END:VEVENT
END:VCALENDAR