BEGIN:VCALENDAR
VERSION:2.0
PRODID:-//Site officiel de la commune de Gragnague - ECPv6.15.18//NONSGML v1.0//EN
CALSCALE:GREGORIAN
METHOD:PUBLISH
X-WR-CALNAME:Site officiel de la commune de Gragnague
X-ORIGINAL-URL:https://www.gragnague.fr
X-WR-CALDESC:Évènements pour Site officiel de la commune de Gragnague
REFRESH-INTERVAL;VALUE=DURATION:PT1H
X-Robots-Tag:noindex
X-PUBLISHED-TTL:PT1H
BEGIN:VTIMEZONE
TZID:Europe/Paris
BEGIN:DAYLIGHT
TZOFFSETFROM:+0100
TZOFFSETTO:+0200
TZNAME:CEST
DTSTART:20200329T010000
END:DAYLIGHT
BEGIN:STANDARD
TZOFFSETFROM:+0200
TZOFFSETTO:+0100
TZNAME:CET
DTSTART:20201025T010000
END:STANDARD
BEGIN:DAYLIGHT
TZOFFSETFROM:+0100
TZOFFSETTO:+0200
TZNAME:CEST
DTSTART:20210328T010000
END:DAYLIGHT
BEGIN:STANDARD
TZOFFSETFROM:+0200
TZOFFSETTO:+0100
TZNAME:CET
DTSTART:20211031T010000
END:STANDARD
BEGIN:DAYLIGHT
TZOFFSETFROM:+0100
TZOFFSETTO:+0200
TZNAME:CEST
DTSTART:20220327T010000
END:DAYLIGHT
BEGIN:STANDARD
TZOFFSETFROM:+0200
TZOFFSETTO:+0100
TZNAME:CET
DTSTART:20221030T010000
END:STANDARD
END:VTIMEZONE
BEGIN:VEVENT
DTSTART;VALUE=DATE:20210530
DTEND;VALUE=DATE:20210531
DTSTAMP:20260425T203120
CREATED:20201022T132823Z
LAST-MODIFIED:20210115T162814Z
UID:4339-1622332800-1622419199@www.gragnague.fr
SUMMARY:Festival Gragna'Mômes organisé par l'association Gragnague en Ritournelle ANNULÉ ET REPORTÉ EN 2022
DESCRIPTION:Le festival Gragna’mômes aura lieu le dimanche 30 mai 2021. Cela sera déjà la 11ème  édition. \nFestival destiné au enfants de 3 à 12 ans. \nComme chaque fois cela nous permettra\, le temps d’une journée\, de participer tous ensemble à un bon \nmoment de partage et de convivialité. \nVous pouvez déjà nous découvrir sur notre site http://www.gragnamomes.com/  et sur notre Facebook  « gragna’mômes- gragnague » \nNous comptons sur vous !
URL:https://www.gragnague.fr/evenement/festival-gragnamomes-organise-par-lassociation-gragnague-en-ritournelle/
LOCATION:Théâtre de verdure\, 15 Place Bellegarde\, Gragnague\, 31380\, France
CATEGORIES:Associations,Loisirs
END:VEVENT
END:VCALENDAR